BEGIN:VCALENDAR
VERSION:2.0
PRODID:-//Library Market//iCal Export//EN
BEGIN:VEVENT
SUMMARY:Kind Columbus
UID:14671
DTSTAMP:20260420T162100Z
DTSTART:20260418T050000Z
DTEND:20260418T050000Z
LOCATION:Columbus Public Library, 2500 14th Street, Columbus, NE 68601, Un
 ited States
ROOM: Kind Columbus
DESCRIPTION:Join the Library on Tuesday, April 28, for Kind Columbus, a ci
 tywide celebration of generosity, connection and simple acts of kindness t
 hat make a big impact. Everyone is invited to participate in a day dedicat
 ed to paying it forward. From small gestures like leaving encouraging note
 s and buying coffee for a stranger, to larger efforts like organizing volu
 nteer projects or supporting local nonprofits, the goal is simple: spread 
 kindness throughout the community.We encourage everyone to participate and
  post their act of kindness on Kind Columbus NE (Facebook).
URL:https://columbuspl.librarycalendar.com/event/kind-columbus-14671
END:VEVENT
END:VCALENDAR
